BEGIN:VCALENDAR
VERSION:2.0
PRODID:-//BVN.ch//NONSGML Winter Calendar v1.2//EN
CALSCALE:GREGORIAN
METHOD:PUBLISH
X-WR-CALNAME:DU14 Hünibasket
X-WR-CALDESC:BVN Spiele für Juniorinnen U14 Hünibasket
BEGIN:VEVENT
DTSTART:20251026T093000Z
DTEND:20251026T110000Z
DTSTAMP:20260422T141756Z
UID:S25-MN381@bvn.ch
ORGANIZER;CN=SpiKo BVN:MAILTO:noreply@bvn.ch
DESCRIPTION:Juniorinnen U14 381, 26.10.2025 10:30, Frenke 3-Fach, Liestal Basket 44 : Hünibasket
LOCATION:Frenke 3-Fach
SEQUENCE:0
SUMMARY:Liestal Basket 44 : Hünibasket
TRANSP:OPAQUE
END:VEVENT
BEGIN:VEVENT
DTSTART:20251108T110000Z
DTEND:20251108T123000Z
DTSTAMP:20260422T141756Z
UID:S25-MN373@bvn.ch
ORGANIZER;CN=SpiKo BVN:MAILTO:noreply@bvn.ch
DESCRIPTION:Juniorinnen U14 373, 08.11.2025 12:00, Progymatte, Hünibasket : BC Allschwil
LOCATION:Progymatte
SEQUENCE:0
SUMMARY:Hünibasket : BC Allschwil
TRANSP:OPAQUE
END:VEVENT
BEGIN:VEVENT
DTSTART:20251115T130000Z
DTEND:20251115T143000Z
DTSTAMP:20260422T141756Z
UID:S25-MN385@bvn.ch
ORGANIZER;CN=SpiKo BVN:MAILTO:noreply@bvn.ch
DESCRIPTION:Juniorinnen U14 385, 15.11.2025 14:00, Progymatte, Hünibasket : CVJM Riehen Basket
LOCATION:Progymatte
SEQUENCE:0
SUMMARY:Hünibasket : CVJM Riehen Basket
TRANSP:OPAQUE
END:VEVENT
BEGIN:VEVENT
DTSTART:20251123T090000Z
DTEND:20251123T103000Z
DTSTAMP:20260422T141756Z
UID:S25-MN361@bvn.ch
ORGANIZER;CN=SpiKo BVN:MAILTO:noreply@bvn.ch
DESCRIPTION:Juniorinnen U14 361, 23.11.2025 10:00, Erlenmatt 1, BC Bären Kleinbasel : Hünibasket
LOCATION:Erlenmatt 1
SEQUENCE:0
SUMMARY:BC Bären Kleinbasel : Hünibasket
TRANSP:OPAQUE
END:VEVENT
BEGIN:VEVENT
DTSTART:20251207T110000Z
DTEND:20251207T123000Z
DTSTAMP:20260422T141756Z
UID:S25-MN370@bvn.ch
ORGANIZER;CN=SpiKo BVN:MAILTO:noreply@bvn.ch
DESCRIPTION:Juniorinnen U14 370, 07.12.2025 12:00, Progymatte 1, Hünibasket : TV Muttenz Basket
LOCATION:Progymatte 1
SEQUENCE:0
SUMMARY:Hünibasket : TV Muttenz Basket
TRANSP:OPAQUE
END:VEVENT
BEGIN:VEVENT
DTSTART:20260131T130000Z
DTEND:20260131T143000Z
DTSTAMP:20260422T141756Z
UID:S25-MN22212@bvn.ch
ORGANIZER;CN=SpiKo BVN:MAILTO:noreply@bvn.ch
DESCRIPTION:Juniorinnen U14 R 22212, 31.01.2026 14:00, Margelacker 1, TV Muttenz Basket : Hünibasket
LOCATION:Margelacker 1
SEQUENCE:0
SUMMARY:TV Muttenz Basket : Hünibasket
TRANSP:OPAQUE
END:VEVENT
BEGIN:VEVENT
DTSTART:20260307T110000Z
DTEND:20260307T123000Z
DTSTAMP:20260422T141756Z
UID:S25-MN22205@bvn.ch
ORGANIZER;CN=SpiKo BVN:MAILTO:noreply@bvn.ch
DESCRIPTION:Juniorinnen U14 R 22205, 07.03.2026 12:00, Progymatte, Hünibasket : BC Bären Kleinbasel
LOCATION:Progymatte
SEQUENCE:0
SUMMARY:Hünibasket : BC Bären Kleinbasel
TRANSP:OPAQUE
END:VEVENT
BEGIN:VEVENT
DTSTART:20260322T163000Z
DTEND:20260322T180000Z
DTSTAMP:20260422T141756Z
UID:S25-MN22215@bvn.ch
ORGANIZER;CN=SpiKo BVN:MAILTO:noreply@bvn.ch
DESCRIPTION:Juniorinnen U14 R 22215, 22.03.2026 17:30, Schulhaus Gartenhof 1, BC Allschwil : Hünibasket
LOCATION:Schulhaus Gartenhof 1
SEQUENCE:0
SUMMARY:BC Allschwil : Hünibasket
TRANSP:OPAQUE
END:VEVENT
BEGIN:VEVENT
DTSTART:20260503T130000Z
DTEND:20260503T143000Z
DTSTAMP:20260422T141756Z
UID:S25-MN22209@bvn.ch
ORGANIZER;CN=SpiKo BVN:MAILTO:noreply@bvn.ch
DESCRIPTION:Juniorinnen U14 R 22209, 03.05.2026 15:00, Sporthalle Niederholz 3, CVJM Riehen Basket : Hünibasket
LOCATION:Sporthalle Niederholz 3
SEQUENCE:0
SUMMARY:CVJM Riehen Basket : Hünibasket
TRANSP:OPAQUE
END:VEVENT
END:VCALENDAR
